BEGIN:VCALENDAR
VERSION:2.0
PRODID:-//Golden Gay Girls Villages - ECPv6.15.20//NONSGML v1.0//EN
CALSCALE:GREGORIAN
METHOD:PUBLISH
X-ORIGINAL-URL:https://goldengaygirlsvillages.org
X-WR-CALDESC:Events for Golden Gay Girls Villages
REFRESH-INTERVAL;VALUE=DURATION:PT1H
X-Robots-Tag:noindex
X-PUBLISHED-TTL:PT1H
BEGIN:VTIMEZONE
TZID:America/New_York
BEGIN:DAYLIGHT
TZOFFSETFROM:-0500
TZOFFSETTO:-0400
TZNAME:EDT
DTSTART:20240310T070000
END:DAYLIGHT
BEGIN:STANDARD
TZOFFSETFROM:-0400
TZOFFSETTO:-0500
TZNAME:EST
DTSTART:20241103T060000
END:STANDARD
BEGIN:DAYLIGHT
TZOFFSETFROM:-0500
TZOFFSETTO:-0400
TZNAME:EDT
DTSTART:20250309T070000
END:DAYLIGHT
BEGIN:STANDARD
TZOFFSETFROM:-0400
TZOFFSETTO:-0500
TZNAME:EST
DTSTART:20251102T060000
END:STANDARD
BEGIN:DAYLIGHT
TZOFFSETFROM:-0500
TZOFFSETTO:-0400
TZNAME:EDT
DTSTART:20260308T070000
END:DAYLIGHT
BEGIN:STANDARD
TZOFFSETFROM:-0400
TZOFFSETTO:-0500
TZNAME:EST
DTSTART:20261101T060000
END:STANDARD
END:VTIMEZONE
BEGIN:VEVENT
DTSTART;TZID=America/New_York:20250914T054500
DTEND;TZID=America/New_York:20250914T194500
DTSTAMP:20260419T231149
CREATED:20250820T124636Z
LAST-MODIFIED:20250902T151548Z
UID:2055-1757828700-1757879100@goldengaygirlsvillages.org
SUMMARY:Cape Water Tours 3GV Dolphin and Sunset Charter Tour–SOLD OUT!
DESCRIPTION:Please note: registration for the Sunset Charter Tour is now closed\, please join us for another event! \nJoin us for a fun-filled cruise on the bay\, “in search of dolphins”\, on Sunday September 14 at 5:45 pm. We will depart from the Pier on Angler’s Road\, just past the Irish Eyes Restaurant on the canal in Lewes. Parking is free. Guests should arrive at the dock 15-20 minutes prior to departure. \nWe’ll sail around the bay and listen to some streamed music. We’ll also provide appetizers of shrimp\, cheese\, and dips and maybe a surprise or two. Bring your own beverages. Small coolers are allowed on the boat – and YES – there is a restroom on board. \nRegistration for the Sunset Charter Tour is now closed\, please join us for another event! \n \n 
URL:https://goldengaygirlsvillages.org/event/cape-water-tours-3gv-dolphin-and-sunset-charter-tour/
LOCATION:Cape Water Tours\, 217 Anglers Rd.\, Lewes\, DE\, 19958\, United States
ATTACH;FMTTYPE=image/jpeg:https://goldengaygirlsvillages.org/wp-content/uploads/2025/08/sunset-from-boat.jpg
END:VEVENT
END:VCALENDAR