BEGIN:VCALENDAR
VERSION:2.0
PRODID:-//Golden Gay Girls Villages - ECPv6.15.20//NONSGML v1.0//EN
CALSCALE:GREGORIAN
METHOD:PUBLISH
X-WR-CALNAME:Golden Gay Girls Villages
X-ORIGINAL-URL:https://goldengaygirlsvillages.org
X-WR-CALDESC:Events for Golden Gay Girls Villages
REFRESH-INTERVAL;VALUE=DURATION:PT1H
X-Robots-Tag:noindex
X-PUBLISHED-TTL:PT1H
BEGIN:VTIMEZONE
TZID:America/New_York
BEGIN:DAYLIGHT
TZOFFSETFROM:-0500
TZOFFSETTO:-0400
TZNAME:EDT
DTSTART:20240310T070000
END:DAYLIGHT
BEGIN:STANDARD
TZOFFSETFROM:-0400
TZOFFSETTO:-0500
TZNAME:EST
DTSTART:20241103T060000
END:STANDARD
BEGIN:DAYLIGHT
TZOFFSETFROM:-0500
TZOFFSETTO:-0400
TZNAME:EDT
DTSTART:20250309T070000
END:DAYLIGHT
BEGIN:STANDARD
TZOFFSETFROM:-0400
TZOFFSETTO:-0500
TZNAME:EST
DTSTART:20251102T060000
END:STANDARD
BEGIN:DAYLIGHT
TZOFFSETFROM:-0500
TZOFFSETTO:-0400
TZNAME:EDT
DTSTART:20260308T070000
END:DAYLIGHT
BEGIN:STANDARD
TZOFFSETFROM:-0400
TZOFFSETTO:-0500
TZNAME:EST
DTSTART:20261101T060000
END:STANDARD
END:VTIMEZONE
BEGIN:VEVENT
DTSTART;TZID=America/New_York:20250513T180000
DTEND;TZID=America/New_York:20250513T210000
DTSTAMP:20260419T160513
CREATED:20250506T211129Z
LAST-MODIFIED:20250507T124241Z
UID:1554-1747159200-1747170000@goldengaygirlsvillages.org
SUMMARY:3GV Softball: First Game!
DESCRIPTION:Take Me Out to the Ballgame! Join us on Tuesday evenings for the Rehoboth Women’s Senior Softball League. We couldn’t be more excited to announce that 3GV is officially sponsoring our very own 3GV Softball Team in the Rehoboth Women’s Senior Softball League! This is such a fun opportunity to support our team\, enjoy some fresh air\, and connect—all while showing off our Golden Gay Girls Villages spirit. This is the first year that 3GV has a team. \nStart Time is 6 PM\nLocation is the Rehoboth Sports Complex at 18900 Holland Glade Road in RB.\nFirst game is May 13. View the full schedule.
URL:https://goldengaygirlsvillages.org/event/3gv-softball-first-game/
LOCATION:Rehoboth Sports Complex\, 18900 Holland Glade Road\, Rehoboth\, MD\, 19971\, United States
CATEGORIES:Softball
ATTACH;FMTTYPE=image/jpeg:https://goldengaygirlsvillages.org/wp-content/uploads/2025/05/Ballgame.jpg
END:VEVENT
END:VCALENDAR