BEGIN:VCALENDAR
VERSION:2.0
PRODID:-//Golden Gay Girls Villages - ECPv6.15.20//NONSGML v1.0//EN
CALSCALE:GREGORIAN
METHOD:PUBLISH
X-ORIGINAL-URL:https://goldengaygirlsvillages.org
X-WR-CALDESC:Events for Golden Gay Girls Villages
REFRESH-INTERVAL;VALUE=DURATION:PT1H
X-Robots-Tag:noindex
X-PUBLISHED-TTL:PT1H
BEGIN:VTIMEZONE
TZID:America/New_York
BEGIN:DAYLIGHT
TZOFFSETFROM:-0500
TZOFFSETTO:-0400
TZNAME:EDT
DTSTART:20240310T070000
END:DAYLIGHT
BEGIN:STANDARD
TZOFFSETFROM:-0400
TZOFFSETTO:-0500
TZNAME:EST
DTSTART:20241103T060000
END:STANDARD
BEGIN:DAYLIGHT
TZOFFSETFROM:-0500
TZOFFSETTO:-0400
TZNAME:EDT
DTSTART:20250309T070000
END:DAYLIGHT
BEGIN:STANDARD
TZOFFSETFROM:-0400
TZOFFSETTO:-0500
TZNAME:EST
DTSTART:20251102T060000
END:STANDARD
BEGIN:DAYLIGHT
TZOFFSETFROM:-0500
TZOFFSETTO:-0400
TZNAME:EDT
DTSTART:20260308T070000
END:DAYLIGHT
BEGIN:STANDARD
TZOFFSETFROM:-0400
TZOFFSETTO:-0500
TZNAME:EST
DTSTART:20261101T060000
END:STANDARD
BEGIN:DAYLIGHT
TZOFFSETFROM:-0500
TZOFFSETTO:-0400
TZNAME:EDT
DTSTART:20270314T070000
END:DAYLIGHT
BEGIN:STANDARD
TZOFFSETFROM:-0400
TZOFFSETTO:-0500
TZNAME:EST
DTSTART:20271107T060000
END:STANDARD
END:VTIMEZONE
BEGIN:VEVENT
DTSTART;TZID=America/New_York:20250825T170000
DTEND;TZID=America/New_York:20250825T210000
DTSTAMP:20260420T042504
CREATED:20250807T142304Z
LAST-MODIFIED:20250808T142456Z
UID:2000-1756141200-1756155600@goldengaygirlsvillages.org
SUMMARY:Developing Artists Collaboration’s West Side Creative Market
DESCRIPTION:We have a great evening planned for Monday\, August 25. We’ll gather at the Developing Artists Collaboration’s West Side Creative Market to listen to talented Kerry Hallett (playing solo) and peruse some excellent arts and crafts. The Creative Market is an outdoor event located in West Rehoboth on 19826 Central Street. It is right across from Tomato Sunshine and Revelation Brewing Company\, and it is right next to the bike path. This is planned as just a fun relaxing way to spend the evening while enjoying some music and the outdoors so let’s hope that the temperatures favor us. There will be a couple of food trucks at the Market and a bar that sells all sorts of beverages. This is a free event that runs from 5 – 9 pm. Come when you can. \nKerry (who is half of the band Goldstar) plays acoustic guitar when she sings solo\, so we will be able to chat and get to know each other. Creative Market has high tops and picnic tables but you might want to bring an extra chair (just in case). \nRSVP using the link below. We just want to gauge how many folks plan to attend. \n \n \nIf you are not already a supporting member of 3GV\, please consider being one by using this link. Thanks!
URL:https://goldengaygirlsvillages.org/event/developing-artists-collaborations-west-side-creative-market/
LOCATION:Developing Artists Collaboration’s West Side Creative Market\, 19826 Central Street\, Rehoboth Beach\, DE\, 19971\, United States
ATTACH;FMTTYPE=image/png:https://goldengaygirlsvillages.org/wp-content/uploads/2025/08/creative-market-1.png
END:VEVENT
BEGIN:VEVENT
DTSTART;TZID=America/New_York:20250907T160000
DTEND;TZID=America/New_York:20250907T170000
DTSTAMP:20260420T042504
CREATED:20250819T144745Z
LAST-MODIFIED:20250819T144745Z
UID:2067-1757260800-1757264400@goldengaygirlsvillages.org
SUMMARY:Cris Williamson – 50th Anniversary concert of “Changer and the Changed"
DESCRIPTION:The legendary Cris Williamson is performing in Rehoboth Beach on Sunday\, September 7 at 4 pm at the Epworth Church on Holland Glade Road.  This fantastic event is being coordinated by Gay Women of Rehoboth (GWOR) and 3GV is proud to be collaborating with GWOR along with The Listening Booth. \nCris Williamson is an American feminist singer songwriter and recording artist. She was a visible political activist during an era when few who were unconnected to the lesbian community were aware of gay and lesbian issues. \nWilliamson is credited by many in the LGBTQ community for her contributions\, both artistically\, and politically\, and continues to be a role model for a younger generation hoping to address concerns and obtain recognition for achievements specific to people who have historically been ignored. \nThroughout her career\, Williamson has released dozens of albums on both Olivia Records and her own Wolf Moon Records label. Her 1975 Olivia album\, The Changer and the Changed\, became one of the best-selling independent albums and is considered a ground breaking album within the women’s music genre. \nWe are excited to have her in Rehoboth Beach! \nClick here or scan QR code for tickets and more info.
URL:https://goldengaygirlsvillages.org/event/cris-williamson-50th-anniversary-concert-of-changer-and-the-changed/
LOCATION:Epworth Church\, 19285 Holland Glade Rd\, Rehoboth Beach\, DE\, 19971\, United States
CATEGORIES:Concert
ATTACH;FMTTYPE=image/png:https://goldengaygirlsvillages.org/wp-content/uploads/2025/08/CrisWilliamson-promo.png
END:VEVENT
BEGIN:VEVENT
DTSTART;TZID=America/New_York:20250914T054500
DTEND;TZID=America/New_York:20250914T194500
DTSTAMP:20260420T042504
CREATED:20250820T124636Z
LAST-MODIFIED:20250902T151548Z
UID:2055-1757828700-1757879100@goldengaygirlsvillages.org
SUMMARY:Cape Water Tours 3GV Dolphin and Sunset Charter Tour–SOLD OUT!
DESCRIPTION:Please note: registration for the Sunset Charter Tour is now closed\, please join us for another event! \nJoin us for a fun-filled cruise on the bay\, “in search of dolphins”\, on Sunday September 14 at 5:45 pm. We will depart from the Pier on Angler’s Road\, just past the Irish Eyes Restaurant on the canal in Lewes. Parking is free. Guests should arrive at the dock 15-20 minutes prior to departure. \nWe’ll sail around the bay and listen to some streamed music. We’ll also provide appetizers of shrimp\, cheese\, and dips and maybe a surprise or two. Bring your own beverages. Small coolers are allowed on the boat – and YES – there is a restroom on board. \nRegistration for the Sunset Charter Tour is now closed\, please join us for another event! \n \n 
URL:https://goldengaygirlsvillages.org/event/cape-water-tours-3gv-dolphin-and-sunset-charter-tour/
LOCATION:Cape Water Tours\, 217 Anglers Rd.\, Lewes\, DE\, 19958\, United States
ATTACH;FMTTYPE=image/jpeg:https://goldengaygirlsvillages.org/wp-content/uploads/2025/08/sunset-from-boat.jpg
END:VEVENT
BEGIN:VEVENT
DTSTART;TZID=America/New_York:20251017T180000
DTEND;TZID=America/New_York:20251017T210000
DTSTAMP:20260420T042504
CREATED:20250903T184958Z
LAST-MODIFIED:20251005T141542Z
UID:2091-1760724000-1760734800@goldengaygirlsvillages.org
SUMMARY:Get your dancing shoes on because our "Dance Party" is BACK!
DESCRIPTION:Get your dancing shoes on because our “Dance Party” is BACK on October 17 at The Glade Club House – an awesome indoor and outdoor facility. For those of you who attended\, remember how much fun we had at the 3GV event in March? This is going to be a repeat performance. \nPeggy Castle (IDJ4FUN) will be spinning tunes that we all know and love. \nOur favorite bartenders Diane and Steph will be serving up beverages. \nThe festivities run from 6 – 9 pm. \nCost is $40 per person: It includes one drink ticket and Tasty Light Fare. Get your tickets today! \n \nThe proceeds from this event will enable 3GV to continue its mission of providing information and resources to 50 plus Gay Women in the areas of socialization\, emotional well-being\, and physical health awareness.  \nThe Glades is located at the end of Holland Glade Road. \n 
URL:https://goldengaygirlsvillages.org/event/music-from-ladies-of-the-80s-meets-golden-gay-girls-villages-3gv-once-again/
LOCATION:The Glade Clubhouse\, 16 Glade Farm Drive\,\, Rehoboth Beach\, DE\, 19971\, United States
ATTACH;FMTTYPE=image/png:https://goldengaygirlsvillages.org/wp-content/uploads/2025/09/DP-med.png
END:VEVENT
BEGIN:VEVENT
DTSTART;TZID=America/New_York:20251019T110000
DTEND;TZID=America/New_York:20251019T160000
DTSTAMP:20260420T042504
CREATED:20250903T185451Z
LAST-MODIFIED:20250903T185637Z
UID:2094-1760871600-1760889600@goldengaygirlsvillages.org
SUMMARY:CAMP Rehoboth Block Party
DESCRIPTION:3GV will have a table at the CAMP Rehoboth Block Party on Sunday\, October 19 and we would love for you to stop by to say hello. \nThe Block Party is one of the best outdoor events of the year with music\, arts and crafts\, refreshments and LOTS of great information from a variety of community organizations. \nWe look forward to seeing you so LOOK for us! \n \n 
URL:https://goldengaygirlsvillages.org/event/camp-rehoboth-block-party/
ATTACH;FMTTYPE=image/jpeg:https://goldengaygirlsvillages.org/wp-content/uploads/2025/09/block-party3.jpg
END:VEVENT
BEGIN:VEVENT
DTSTART;TZID=America/New_York:20251117T110000
DTEND;TZID=America/New_York:20251117T130000
DTSTAMP:20260420T042504
CREATED:20251023T210943Z
LAST-MODIFIED:20251113T220847Z
UID:2260-1763377200-1763384400@goldengaygirlsvillages.org
SUMMARY:The Secret to Taking Care of Our Hearts and Heads as We Age
DESCRIPTION:This workshop is now full\, but please join us for another 3GV event! \nThis two-part workshop focuses on important topics that can help you live a healthier and happier life. \nDenise Pecora\, CRNP will address cardiac issues\, strokes\, and nutrition including the signs and symptoms for critical care issues\, how to prevent them and how to deal with them. Such issues are difficult for a patient AND for a caregiver. Pecora will address “LifeVest” and will demonstrate the use of Automated External Defibrillator (AED)\, found in many public places. \nDr Gail Atchison will present issues around aging. What happens to our brains as we age? How do we deal with the trauma of loss of a partner\, parent\, child\, or friends? Grief and loss can have a major effect on health issues. Emotional or physical pain is a part of life. We have choices to make. What will YOU choose? \nAbout the speakers:  \nDenise C Pecora\, CRNP\, MSN\, is an accomplished Certified Registered Nurse Practitioner. She served as a key member of the Interventional Cardiology Team at Beebe Healthcare Medical Center from 2007-2025. She has held several leadership positions including Chief of Operations at Webb Ambulance Company. \nDr Gail Atchison has three decades of experience as a psychologist and was a COO for behavioral health and primary care centers for many years. She is an Ordained Minister who has served as a hospital chaplain for five years. She has presented Grief and Loss workshops nationally\, Her PhD is in Human Behavior and Organizational Psychology\, with a post-doctorate in trauma. \nFree for 3GV members\, $10 for non-members \n  \n 
URL:https://goldengaygirlsvillages.org/event/the-secret-to-taking-care-of-our-hearts-and-heads-as-we-age/
LOCATION:Lewes Library\, 111 Adams Avenue\, Lewes\, DE\, 19958\, United States
ATTACH;FMTTYPE=image/png:https://goldengaygirlsvillages.org/wp-content/uploads/2025/10/Workshop.1.png
END:VEVENT
BEGIN:VEVENT
DTSTART;TZID=America/New_York:20251204T120000
DTEND;TZID=America/New_York:20251204T130000
DTSTAMP:20260420T042504
CREATED:20251110T121619Z
LAST-MODIFIED:20251204T124208Z
UID:2390-1764849600-1764853200@goldengaygirlsvillages.org
SUMMARY:Slow Yoga at Midway Motion and Fitness
DESCRIPTION:Midway Motion and Fitness is a state-of-the-art facility that features a wide range of fitness machines\, treadmills\, personal trainers and much more. It is located behind the Midway Movie Theater complex. The majority of its members are seniors. 3GV is excited to be partnering with Midway to bring together our members and friends for exercise programs. Midway membership is free if you have AARP’s United Healthcare or Silver Sneakers. Our first yoga class is free for all. \nLeslie Hellstarn will conduct our first “slow” Yoga class to get us all stretching together. Leslie is a retired art teacher and a certified yoga teacher\, so she brings a creative touch to yoga! The class is limited to 14 individuals so please sign-up ASAP. We will plan another class if this first one is a success. Class is scheduled for Thursday\, December 4\, 2025\, at 12:00 p.m.
URL:https://goldengaygirlsvillages.org/event/slow-yoga-at-midway-motion-and-fitness/
LOCATION:Midway Fitness\, 34823 Derrickson Drive\, Rehoboth Beach\, 19971\, United States
ATTACH;FMTTYPE=image/png:https://goldengaygirlsvillages.org/wp-content/uploads/2025/11/MF-1.png
END:VEVENT
BEGIN:VEVENT
DTSTART;TZID=America/New_York:20260116T110000
DTEND;TZID=America/New_York:20260116T110000
DTSTAMP:20260420T042504
CREATED:20251219T200147Z
LAST-MODIFIED:20251219T200147Z
UID:2480-1768561200-1768561200@goldengaygirlsvillages.org
SUMMARY:Pride in Planning: Legal & Health Experts Event
DESCRIPTION:3GV is proud to present an exceptional panel of healthcare and legal professionals ready to share vital information that impacts every aspect of our lives as we age. Join us to learn how to stay prepared for life’s curveballs and maintain control of your well-being for as long as possible. \nDuring this session\, we will cover: \n\nWills & Legal Preparedness-\nWhy legal documents drafted in another state should be reviewed by a Delaware attorney\, and the importance of regular will updates.\nEstate Planning & Trusts-\nKey considerations to protect your assets and your wishes.\nLGBTQ-Inclusive Healthcare-\nHow Beebe Healthcare is leading the way in providing progressive\, safe\, and affirming care for the LGBTQ community.\nUnderstanding Palliative Care-\nWhat it is (and isn’t)\, examples of services\, and how it differs from Hospice care.\nSenior Services in Our Community-\nIncluding clear definitions of Alzheimer’s Disease versus Dementia which are terms that are often confused or used interchangeably.\nEmotional & Communication Tools-\nInsight into the emotional side of aging and illness\, plus practical exercises and best practices.\n\nSpeakers include: \nRev. Paula Waite\, MTh\, ACC \nChaplain and Palliative Care Specialist\, Beebe Healthcare \nRev. Paula Waite is a staff chaplain at Beebe Healthcare\, specializing in trauma\, palliative\, and end-of-life care. She earned her Master of Theology from St. Mary’s Seminary in Baltimore\, Maryland\, and completed her chaplaincy residency at Christiana Care in Newark\, Delaware. Following her residency\, she joined Beebe Healthcare as a trauma chaplain. \nRev. Waite is board certified by the Association of Professional Chaplains and holds certification in palliative and end-of-life care. She serves as Education Chair for the Delaware Quality of Life Coalition (DQOLC) and is a member of the Steering Committee for the Delaware Medical Orders for Scope of Treatment (DMOST) through the Delaware Department of Health and Social Services. \n\nAnn DeLazaro \nChief Commercial Officer\, Ideal Culture Lab \nAnn DeLazaro is Chief Commercial Officer at Ideal Culture Lab\, a company founded by her sister\, Sue DeLazaro\, focused on emotional intelligence training and workplace culture transformation. She brings more than 30 years of leadership experience in business development\, working across Europe\, the Middle East\, Africa\, Canada\, and the United States. Her work centers on helping organizations integrate emotional intelligence into daily operations through training in self-awareness\, self-management\, social awareness\, and relationship management. \nPreviously\, Ann served as Director of Provider Services at Delaware Hospice\, where she led physician\, nursing\, and administrative relationships across hospitals\, skilled nursing\, and assisted living facilities in Delaware and Chester and Delaware County\, Pennsylvania. Her team provided clinical education to providers\, patients\, and families\, highlighting gaps in awareness around palliative care and healthy aging resources. Ann remains deeply committed to community education and proactive care planning. \nIdeal Culture Lab was featured in Fortune.com (June 2025) for its innovative approach to training Gen Z professionals and emphasizing emotional intelligence development from the point of hire to strengthen communication and workplace relationships and verbal and no-verbal communication skills to this age group who are fluent with technology\, but not so much in dyadic communication skills.  \n\nLogan Jarrell\, BSN\, RN\, GRN®\, CDP® \nDirector\, NICHE Program \nLogan Jarrell serves as Director of the NICHE (Nurses Improving Care for Healthsystem Elders) Program and is deeply committed to improving care for older adults\, a rapidly growing population in Sussex County\, Delaware. In her role\, she works with hospitalized patients age 65 and older\, particularly those at high risk for delirium\, readmission\, or cognitive decline\, and connects them with community-based resources. \nLogan collaborates closely with interdisciplinary care teams\, educates patients and families about disease processes\, and supports individuals living with dementia through therapeutic interventions designed to promote comfort and calm during hospitalization. She also plays an active role in the community\, presenting at health fairs\, panel discussions\, and post-acute care facilities\, where she and her team provide ongoing education through monthly sessions. Her work extends beyond the hospital setting\, addressing the needs of older adults throughout the broader community. \n\nMeagan Sekscinski \nDirector of Community Relationships\, Procino-Wells & Woodland \nMeagan Sekscinski is Director of Community Relationships at the law firm Procino-Wells & Woodland. In this role\, she connects clients with trusted community resources and represents the firm at educational and outreach events throughout the region. She holds a Bachelor of Science in Marketing from Wilmington University and brings experience in product management across both business and healthcare sectors. \n\nAngie Scott\, BSN\, RN\, ACRN \nCommunity & Mobile Outreach Coordinator / LGBTQ+ Healthcare Advocate \nAngie Scott is a registered nurse and healthcare advocate with more than 11 years of experience at Beebe Healthcare\, where she has served in bedside nursing\, outpatient care\, and leadership roles. Her work focuses on improving access\, equity\, and inclusion in healthcare delivery. \nAngie has played a key leadership role during public health emergencies\, serving on Beebe’s COVID-19 response team\, helping to launch Delaware’s only COVID Positive Care Center\, and organizing Sussex County’s first Mpox vaccine hub. She is a passionate advocate for LGBTQ+ health education\, stigma reduction\, and inclusive care\, and has participated as a speaker and panelist at local\, state\, and national levels. \nAs Coordinator for Beebe’s Community and Mobile Outreach Team\, Angie works to connect individuals with essential healthcare services\, address disparities\, and ensure that every person receives care rooted in dignity and respect. Her approach to advance care planning emphasizes honoring individual voices and ensuring that care reflects each person’s values and identity. \n 
URL:https://goldengaygirlsvillages.org/event/pride-in-planning-legal-health-experts-event/
LOCATION:Lewes Library\, 111 Adams Avenue\, Lewes\, DE\, 19958\, United States
ATTACH;FMTTYPE=image/png:https://goldengaygirlsvillages.org/wp-content/uploads/2025/12/3gvPrideinplanning-2.png
END:VEVENT
BEGIN:VEVENT
DTSTART;TZID=America/New_York:20260321T180000
DTEND;TZID=America/New_York:20260321T210000
DTSTAMP:20260420T042504
CREATED:20260216T142510Z
LAST-MODIFIED:20260317T155634Z
UID:2506-1774116000-1774126800@goldengaygirlsvillages.org
SUMMARY:80's Dance Party
DESCRIPTION:JOIN US FOR A DANCE PARTY! \nSaturday March 21st 6-9PM \nat The Glades clubhouse\, Rehoboth Beach \nGet your dancing shoes ready because “Music from the 80’s ” is BACK on March 21\,  at The Glades club house – an awesome indoor and outdoor facility. For those of you who attended\, remember how much fun we have at our 3GV dances. They sell out fast so grab your tickets while you can. \nNan Martino will be spinning tunes that we all know and love. Our favorite bartenders Diane and Steph will be serving up beverages. The festivities run from 6 – 9 pm. \nWhat’s Cooking Di!  Will be preparing some tasty bites to enjoy!! \n\n\n\n\n\n\n\n\n\n\n\n\n\n\n\n\n\nThe proceeds from this event will enable 3GV to continue its mission of providing information and resources to 50 plus Gay Women in the areas of socialization\, emotional well-being\, and physical health awareness.  \nThe Glades is located at the end of Holland Glade Road. \n 
URL:https://goldengaygirlsvillages.org/event/80sdanceparty/
LOCATION:The Glade Clubhouse\, 16 Glade Farm Drive\,\, Rehoboth Beach\, DE\, 19971\, United States
ATTACH;FMTTYPE=image/png:https://goldengaygirlsvillages.org/wp-content/uploads/2026/02/DanceImage_SoldOut.png
END:VEVENT
BEGIN:VEVENT
DTSTART;TZID=America/New_York:20260331T120000
DTEND;TZID=America/New_York:20260331T140000
DTSTAMP:20260420T042504
CREATED:20260220T200706Z
LAST-MODIFIED:20260310T185235Z
UID:2537-1774958400-1774965600@goldengaygirlsvillages.org
SUMMARY:3GV Annual Meeting and 5 Wishes Review
DESCRIPTION:We are delighted to invite you to our third members meeting for all of the incredible women who have donated\, become members\, and volunteered their time and efforts for 3GV.  We want to hear from you!!  We will be going over potential events for our 2026 season\, review our financials and open the floor. \nWe are also very excited to have Rev. Paula Waite to go over the “Five Wishes” with us.   The Five Wishes document is a comprehensive easy-to-use advance directive (living will) that allows you to address your medical personal\, emotional and spiritual needs in one place\, going beyond simple medical decisions.   It’s only 5 pages. \n\n\n\nRev. Paula Waite\, MTh\, ACC \nChaplain and Palliative Care Specialist\, Beebe Healthcare \nRev. Paula Waite is a staff chaplain at Beebe Healthcare\, specializing in trauma\, palliative\, and end-of-life care. She earned her Master of Theology from St. Mary’s Seminary in Baltimore\, Maryland\, and completed her chaplaincy residency at Christiana Care in Newark\, Delaware. Following her residency\, she joined Beebe Healthcare as a trauma chaplain. \nRev. Waite is board certified by the Association of Professional Chaplains and holds certification in palliative and end-of-life care. She serves as Education Chair for the Delaware Quality of Life Coalition (DQOLC) and is a member of the Steering Committee for the Delaware Medical Orders for Scope of Treatment (DMOST) through the Delaware Department of Health and Social Services. \n\n\n\nPlease remember to RSVP below so we can plan accordingly.
URL:https://goldengaygirlsvillages.org/event/3gv-annual-meeting-march-31-2026/
LOCATION:Lewes Library\, 111 Adams Avenue\, Lewes\, DE\, 19958\, United States
ATTACH;FMTTYPE=image/png:https://goldengaygirlsvillages.org/wp-content/uploads/2026/02/hands.png
END:VEVENT
BEGIN:VEVENT
DTSTART;TZID=America/New_York:20260422T170000
DTEND;TZID=America/New_York:20260422T180000
DTSTAMP:20260420T042504
CREATED:20260406T151442Z
LAST-MODIFIED:20260406T152058Z
UID:2569-1776877200-1776880800@goldengaygirlsvillages.org
SUMMARY:Finding Inner Peace Zoom Meditation
DESCRIPTION:Finding Inner Peace \nDiscover how to cultivate authentic inner peace using principles from psychology\, nervous system regulation and awareness of your own energy.  Susan will offer practical\, everyday tools to gently regulate feelings related to stress and grief\, without suppressing real emotions.  And she will share how peace may be experienced even in the midst of navigating life’s challenges. \nAbout Susan Melchione\, MSW \nSusan is an intuitive energy healing coach\, teacher and speaker\, who blends energy healing\, psychology\, and spiritual/metaphysical knowledge in a deeply supportive way.  With a bachelor’s degree in psychology and a master’s degree in social work\, Susan uses her intuitive gifts to assist people to connect more fully with their inner wisdom and innate healing process. She also teaches people how to do energy healing practices (Reiki\, Archangelic Light and more) for themselves and others\, and facilitates Meditative Movement Classes.  New clients and students are welcome to schedule a free zoom or phone consultation by visiting:  SusanMelchione.com \nDate: April 22\, 2026  \nTime: 5:00-6:00PM \nLocation: Zoom from your own computer or cell phone \nZoom link will be provided via email 1 week before the event. \nPlease remember to RSVP below so we can plan accordingly.
URL:https://goldengaygirlsvillages.org/event/findinginnerpeacezoommeditation/
LOCATION:Zoom
ATTACH;FMTTYPE=image/png:https://goldengaygirlsvillages.org/wp-content/uploads/2026/04/InnerPeace.png
END:VEVENT
END:VCALENDAR