BEGIN:VCALENDAR
VERSION:2.0
PRODID:-//Golden Gay Girls Villages - ECPv6.15.20//NONSGML v1.0//EN
CALSCALE:GREGORIAN
METHOD:PUBLISH
X-WR-CALNAME:Golden Gay Girls Villages
X-ORIGINAL-URL:https://goldengaygirlsvillages.org
X-WR-CALDESC:Events for Golden Gay Girls Villages
REFRESH-INTERVAL;VALUE=DURATION:PT1H
X-Robots-Tag:noindex
X-PUBLISHED-TTL:PT1H
BEGIN:VTIMEZONE
TZID:America/New_York
BEGIN:DAYLIGHT
TZOFFSETFROM:-0500
TZOFFSETTO:-0400
TZNAME:EDT
DTSTART:20230312T070000
END:DAYLIGHT
BEGIN:STANDARD
TZOFFSETFROM:-0400
TZOFFSETTO:-0500
TZNAME:EST
DTSTART:20231105T060000
END:STANDARD
BEGIN:DAYLIGHT
TZOFFSETFROM:-0500
TZOFFSETTO:-0400
TZNAME:EDT
DTSTART:20240310T070000
END:DAYLIGHT
BEGIN:STANDARD
TZOFFSETFROM:-0400
TZOFFSETTO:-0500
TZNAME:EST
DTSTART:20241103T060000
END:STANDARD
BEGIN:DAYLIGHT
TZOFFSETFROM:-0500
TZOFFSETTO:-0400
TZNAME:EDT
DTSTART:20250309T070000
END:DAYLIGHT
BEGIN:STANDARD
TZOFFSETFROM:-0400
TZOFFSETTO:-0500
TZNAME:EST
DTSTART:20251102T060000
END:STANDARD
BEGIN:DAYLIGHT
TZOFFSETFROM:-0500
TZOFFSETTO:-0400
TZNAME:EDT
DTSTART:20260308T070000
END:DAYLIGHT
BEGIN:STANDARD
TZOFFSETFROM:-0400
TZOFFSETTO:-0500
TZNAME:EST
DTSTART:20261101T060000
END:STANDARD
END:VTIMEZONE
BEGIN:VEVENT
DTSTART;TZID=America/New_York:20250713T120000
DTEND;TZID=America/New_York:20250713T150000
DTSTAMP:20260419T173818
CREATED:20250623T160105Z
LAST-MODIFIED:20250629T122858Z
UID:1701-1752408000-1752418800@goldengaygirlsvillages.org
SUMMARY:3GV Social Event at Nassau Valley Vineyard
DESCRIPTION:JOIN US: A Golden Gay Girls Villages (3GV) Social Event at Nassau Valley Vineyard for Music and the Sunday Farmer’s Market! \nSunday\, July 13th \, 32165 Winery Way in Lewes. This FREE event runs from 12 – 3 pm. We will be listening to music among a grove of shade trees with the popular Farmers Market right next door. \n \nNassau Valley Vineyards is right off Coastal Hwy. The Market is a mix of 20 venders offering fruit and veggies\, health products\, crafts\, and food. The vineyard’s main building includes an art gallery\, a museum on the history of wine and a gift shop with clever and unusual items. \nChairs are provided but you also can bring your own. Wine tastings are available but optional. You can bring your own nibbles or purchase something from one of the food venders. \nLook for our Golden Gay Girls Villages sign and join us for a peaceful and pleasant afternoon. (Note: dogs are not permitted at the winery) \nJust for planning purposes\, please let us know if you plan to join us. If you want to do a wine tasting it is recommended that you arrive early as the tasting room gets busy. It opens at 11 am on Sunday.
URL:https://goldengaygirlsvillages.org/event/3gv-social-event-at-nassau-valley-vineyard/
LOCATION:DE
ATTACH;FMTTYPE=image/png:https://goldengaygirlsvillages.org/wp-content/uploads/2025/06/Nassau-Valley-logo-web.png
END:VEVENT
BEGIN:VEVENT
DTSTART;TZID=America/New_York:20250625T103000
DTEND;TZID=America/New_York:20250625T133000
DTSTAMP:20260419T173818
CREATED:20250603T184533Z
LAST-MODIFIED:20250612T174144Z
UID:1670-1750847400-1750858200@goldengaygirlsvillages.org
SUMMARY:The Chapters of Your Book of Life–A “Living With Soulful Purpose” Workshop
DESCRIPTION:Life takes us on a journey of our heart\, mind and soul. As we travel\, we create our personal book of life. The chapters of our book contain stories about our experiences with it’s joys and sorrows\, rewards and disappointments\, lessons learned\, and skills developed. \nWhat are you writing in this chapter of your life? Does it reflect how your mind has grown\, your heart has opened\, and your soul has expanded? Or are you still living in the past dreaming of a better future? \nEvery great book needs an editor. This workshop will support you in connecting with the chapters of your book\, cleaning up the past and rewriting it to make your book of life a best seller! \nThis workshop is FREE for 3GV members. $10.00 for non members \nSharon Marquart is an Inter-denominational Minister and Spiritual Life Coach. She facilitates zoom classes on “A Course of Love.” As an author\, Sharon has written 5 books on Spiritual development. As an artist\, she intuitively paints mandalas tools for meditation. Her latest creation is “Living with Soulful Purpose\,” a series of 7 workshops for those who choose to awaken to a deeper purpose of their life.
URL:https://goldengaygirlsvillages.org/event/the-chapters-of-your-book-of-life-a-living-with-soulful-purpose-workshop/
LOCATION:Lewes Library\, 111 Adams Avenue\, Lewes\, DE\, 19958\, United States
ATTACH;FMTTYPE=image/png:https://goldengaygirlsvillages.org/wp-content/uploads/2025/06/Chapters.3.png
END:VEVENT
BEGIN:VEVENT
DTSTART;TZID=America/New_York:20250611T170000
DTEND;TZID=America/New_York:20250611T190000
DTSTAMP:20260419T173818
CREATED:20250602T155534Z
LAST-MODIFIED:20250612T144934Z
UID:1662-1749661200-1749668400@goldengaygirlsvillages.org
SUMMARY:3GV Meet and Greet
DESCRIPTION:We’d love to have you join us for our upcoming 3GV Meet and Greet on Wednesday\, June 11\, 2025\, at 5:00 PM at MJ’s house. \nWe’ll provide refreshments (water\, wine\, and beer) and light appetizers as we gather for an evening of connection and conversation. The event will last approximately two hours (or more) and is a great opportunity to meet and network with other women in the 3GV community. \nAs part of the evening\, we’d love to kick things off with a fun icebreaker! If you have a creative or engaging idea\, please email it to info@gggvillages.org. We’ll select one to start the evening on a lively note. RSVP by June 6\, 2025
URL:https://goldengaygirlsvillages.org/event/3gv-meet-and-greet/
LOCATION:DE
ATTACH;FMTTYPE=image/png:https://goldengaygirlsvillages.org/wp-content/uploads/2025/06/Meet-and-greet.png
END:VEVENT
BEGIN:VEVENT
DTSTART;TZID=America/New_York:20250531T110000
DTEND;TZID=America/New_York:20250531T150000
DTSTAMP:20260419T173818
CREATED:20250506T213846Z
LAST-MODIFIED:20250508T194259Z
UID:1562-1748689200-1748703600@goldengaygirlsvillages.org
SUMMARY:Effective Communication Workshop
DESCRIPTION:Effective Communication\, or “What’s Normal Anyway?”\nA workshop with Dr. Gail Atchison. \nMaya Angelou said\, “People will forget what you said\, people will forget what you did\, but people will never forget how you made them feel.” \nThe first few minutes of a conversation will set the stage for whether that conversation will end well\, or disastrous.  This workshop will present various ways a person\, couple\, or team leader can organize information to present an issue that needs resolution.   We will look at I statements\, describing the issue clearly\, how the issue affects you\, and how one stays out of the “blame” game. \nHealthy communication is not easy\, but with practice we can contribute to a kinder\, gentler connection with others. \nThis workshop is free to 3GV members. $5.00 for non-members. RSVP here. \nDr. Gail works with the LGBTQ community\, couples\, families\, grief and loss\, and addictions\, as a life coach. She has a PhD in Organizational Psychology and Human Behavior\, a Post Doc in Trauma\, a master’s degree in Divinity\, a master’s in Psychology and a bachelor’s degree in Criminal Justice and Pre Law. She is an ordained minister in the MCC Church. She lives in Lewes with her dog Bailey\, and is in private practice.
URL:https://goldengaygirlsvillages.org/event/effective-communication-workshop/
LOCATION:Lewes Library\, 111 Adams Avenue\, Lewes\, DE\, 19958\, United States
ATTACH;FMTTYPE=image/jpeg:https://goldengaygirlsvillages.org/wp-content/uploads/2025/05/What-is-Normal.1.jpg
END:VEVENT
BEGIN:VEVENT
DTSTART;TZID=America/New_York:20250513T180000
DTEND;TZID=America/New_York:20250513T210000
DTSTAMP:20260419T173818
CREATED:20250506T211129Z
LAST-MODIFIED:20250507T124241Z
UID:1554-1747159200-1747170000@goldengaygirlsvillages.org
SUMMARY:3GV Softball: First Game!
DESCRIPTION:Take Me Out to the Ballgame! Join us on Tuesday evenings for the Rehoboth Women’s Senior Softball League. We couldn’t be more excited to announce that 3GV is officially sponsoring our very own 3GV Softball Team in the Rehoboth Women’s Senior Softball League! This is such a fun opportunity to support our team\, enjoy some fresh air\, and connect—all while showing off our Golden Gay Girls Villages spirit. This is the first year that 3GV has a team. \nStart Time is 6 PM\nLocation is the Rehoboth Sports Complex at 18900 Holland Glade Road in RB.\nFirst game is May 13. View the full schedule.
URL:https://goldengaygirlsvillages.org/event/3gv-softball-first-game/
LOCATION:Rehoboth Sports Complex\, 18900 Holland Glade Road\, Rehoboth\, MD\, 19971\, United States
CATEGORIES:Softball
ATTACH;FMTTYPE=image/jpeg:https://goldengaygirlsvillages.org/wp-content/uploads/2025/05/Ballgame.jpg
END:VEVENT
BEGIN:VEVENT
DTSTART;TZID=America/New_York:20250322T180000
DTEND;TZID=America/New_York:20250322T210000
DTSTAMP:20260419T173818
CREATED:20250131T011706Z
LAST-MODIFIED:20250304T202613Z
UID:1250-1742666400-1742677200@goldengaygirlsvillages.org
SUMMARY:Music From the Ladies of the 80s Dance Party
DESCRIPTION:—–SOLD OUT—– \nGet ready to groove back to the most electrifying decade at our Music from the Ladies of the 80s Dance Party in Rehoboth Beach! 🎉 \nWe’re so excited to invite you to our second annual 80s-themed dance party—a night to celebrate the iconic music of the 80s while supporting a cause close to our hearts. \nSo\, dust off your leg warmers\, tease up that hair\, and join us for a night filled with music\, fun\, and fundraising! Your ticket will not only get you into the best 80s throwback party of the year\, but also support our mission to empower and connect women in our community. \nDetails: \n📅 Date: Saturday\, March 22\, 2025\n🕖 Time: 6:00-9:00 PM\n📍 Location: 16 Glade Farm Drive\, Rehoboth Beach 19971 \n💰 Cost: $40 for 2 drink tickets and light appetizers \nLast year we SOLD OUT so get your tickets before it is too late. We can’t wait to see you there\, dancing the night away and helping us raise funds for a fantastic cause! \nLooking forward to seeing you in your best 80s gear—it’s going to be totally tubular! 🌟 \n [TO PURCHASE TICKETS: click the "+" below to add the # of tickets you'd like to purchase\, then click "Get Tickets"]
URL:https://goldengaygirlsvillages.org/event/musicfromtheladiesofthe80sdanceparty/
LOCATION:The Glade Clubhouse\, 16 Glade Farm Drive\,\, Rehoboth Beach\, DE\, 19971\, United States
CATEGORIES:Party
ATTACH;FMTTYPE=image/png:https://goldengaygirlsvillages.org/wp-content/uploads/2025/01/3GVinvite2025-2.png
END:VEVENT
BEGIN:VEVENT
DTSTART;TZID=America/New_York:20240518T190000
DTEND;TZID=America/New_York:20240518T220000
DTSTAMP:20260419T173818
CREATED:20240317T151124Z
LAST-MODIFIED:20240509T203939Z
UID:824-1716058800-1716069600@goldengaygirlsvillages.org
SUMMARY:Ladies of the 80s Dance Party - SOLD OUT
DESCRIPTION:Ladies of the 80s Dance Party\n\n Get ready to groove back to the most electrifying decade at our "Ladies of the 80s" Dance Party in Rehoboth Beach! A fundraiser in memory of Golden Gay Girls Villages Co-Founder\, Rachel Higgs\, to support lesbian older adults.\n\nDust off your leg warmers and tease up that hair\, because we're throwing it back with special music by DJ Sandra C!\n\nSo grab your friends and get ready to make some unforgettable memories! Let's show the world that the 80s never looked so good\, especially when celebrated with our amazing lesbian community! \n\nDate: Saturday\, May 18th\, 2024\nTime: 7-10 PM\n\nLocation: \nThe Glade Clubhouse\n16 Glade Farm Drive\nRehoboth Beach\, DE 19971\n\nCost: $35 (tax deductible) includes 2 drinks and light appetizers \nRegister: Purchase tickets in advance below or cash/check accepted at the door\n\n[TO PURCHASE TICKETS: click the "+" below to add the # of tickets you'd like to purchase\, then click "Get Tickets"]
URL:https://goldengaygirlsvillages.org/event/ladies-80s/
LOCATION:The Glade Clubhouse\, 16 Glade Farm Drive\,\, Rehoboth Beach\, DE\, 19971\, United States
CATEGORIES:Party
ATTACH;FMTTYPE=image/jpeg:https://goldengaygirlsvillages.org/wp-content/uploads/2024/03/Ladies-of-the-80s-FB-Callout-DRAFT-scaled.jpg
END:VEVENT
END:VCALENDAR