BEGIN:VCALENDAR
VERSION:2.0
PRODID:-//Golden Gay Girls Villages - ECPv6.15.20//NONSGML v1.0//EN
CALSCALE:GREGORIAN
METHOD:PUBLISH
X-ORIGINAL-URL:https://goldengaygirlsvillages.org
X-WR-CALDESC:Events for Golden Gay Girls Villages
REFRESH-INTERVAL;VALUE=DURATION:PT1H
X-Robots-Tag:noindex
X-PUBLISHED-TTL:PT1H
BEGIN:VTIMEZONE
TZID:America/New_York
BEGIN:DAYLIGHT
TZOFFSETFROM:-0500
TZOFFSETTO:-0400
TZNAME:EDT
DTSTART:20240310T070000
END:DAYLIGHT
BEGIN:STANDARD
TZOFFSETFROM:-0400
TZOFFSETTO:-0500
TZNAME:EST
DTSTART:20241103T060000
END:STANDARD
BEGIN:DAYLIGHT
TZOFFSETFROM:-0500
TZOFFSETTO:-0400
TZNAME:EDT
DTSTART:20250309T070000
END:DAYLIGHT
BEGIN:STANDARD
TZOFFSETFROM:-0400
TZOFFSETTO:-0500
TZNAME:EST
DTSTART:20251102T060000
END:STANDARD
BEGIN:DAYLIGHT
TZOFFSETFROM:-0500
TZOFFSETTO:-0400
TZNAME:EDT
DTSTART:20260308T070000
END:DAYLIGHT
BEGIN:STANDARD
TZOFFSETFROM:-0400
TZOFFSETTO:-0500
TZNAME:EST
DTSTART:20261101T060000
END:STANDARD
END:VTIMEZONE
BEGIN:VEVENT
DTSTART;TZID=America/New_York:20250713T120000
DTEND;TZID=America/New_York:20250713T150000
DTSTAMP:20260420T005238
CREATED:20250623T160105Z
LAST-MODIFIED:20250629T122858Z
UID:1701-1752408000-1752418800@goldengaygirlsvillages.org
SUMMARY:3GV Social Event at Nassau Valley Vineyard
DESCRIPTION:JOIN US: A Golden Gay Girls Villages (3GV) Social Event at Nassau Valley Vineyard for Music and the Sunday Farmer’s Market! \nSunday\, July 13th \, 32165 Winery Way in Lewes. This FREE event runs from 12 – 3 pm. We will be listening to music among a grove of shade trees with the popular Farmers Market right next door. \n \nNassau Valley Vineyards is right off Coastal Hwy. The Market is a mix of 20 venders offering fruit and veggies\, health products\, crafts\, and food. The vineyard’s main building includes an art gallery\, a museum on the history of wine and a gift shop with clever and unusual items. \nChairs are provided but you also can bring your own. Wine tastings are available but optional. You can bring your own nibbles or purchase something from one of the food venders. \nLook for our Golden Gay Girls Villages sign and join us for a peaceful and pleasant afternoon. (Note: dogs are not permitted at the winery) \nJust for planning purposes\, please let us know if you plan to join us. If you want to do a wine tasting it is recommended that you arrive early as the tasting room gets busy. It opens at 11 am on Sunday.
URL:https://goldengaygirlsvillages.org/event/3gv-social-event-at-nassau-valley-vineyard/
ATTACH;FMTTYPE=image/png:https://goldengaygirlsvillages.org/wp-content/uploads/2025/06/Nassau-Valley-logo-web.png
END:VEVENT
END:VCALENDAR