BEGIN:VCALENDAR
VERSION:2.0
PRODID:-//Golden Gay Girls Villages - ECPv6.15.20//NONSGML v1.0//EN
CALSCALE:GREGORIAN
METHOD:PUBLISH
X-WR-CALNAME:Golden Gay Girls Villages
X-ORIGINAL-URL:https://goldengaygirlsvillages.org
X-WR-CALDESC:Events for Golden Gay Girls Villages
REFRESH-INTERVAL;VALUE=DURATION:PT1H
X-Robots-Tag:noindex
X-PUBLISHED-TTL:PT1H
BEGIN:VTIMEZONE
TZID:America/New_York
BEGIN:DAYLIGHT
TZOFFSETFROM:-0500
TZOFFSETTO:-0400
TZNAME:EDT
DTSTART:20240310T070000
END:DAYLIGHT
BEGIN:STANDARD
TZOFFSETFROM:-0400
TZOFFSETTO:-0500
TZNAME:EST
DTSTART:20241103T060000
END:STANDARD
BEGIN:DAYLIGHT
TZOFFSETFROM:-0500
TZOFFSETTO:-0400
TZNAME:EDT
DTSTART:20250309T070000
END:DAYLIGHT
BEGIN:STANDARD
TZOFFSETFROM:-0400
TZOFFSETTO:-0500
TZNAME:EST
DTSTART:20251102T060000
END:STANDARD
BEGIN:DAYLIGHT
TZOFFSETFROM:-0500
TZOFFSETTO:-0400
TZNAME:EDT
DTSTART:20260308T070000
END:DAYLIGHT
BEGIN:STANDARD
TZOFFSETFROM:-0400
TZOFFSETTO:-0500
TZNAME:EST
DTSTART:20261101T060000
END:STANDARD
END:VTIMEZONE
BEGIN:VEVENT
DTSTART;TZID=America/New_York:20251017T180000
DTEND;TZID=America/New_York:20251017T210000
DTSTAMP:20260419T195749
CREATED:20250903T184958Z
LAST-MODIFIED:20251005T141542Z
UID:2091-1760724000-1760734800@goldengaygirlsvillages.org
SUMMARY:Get your dancing shoes on because our "Dance Party" is BACK!
DESCRIPTION:Get your dancing shoes on because our “Dance Party” is BACK on October 17 at The Glade Club House – an awesome indoor and outdoor facility. For those of you who attended\, remember how much fun we had at the 3GV event in March? This is going to be a repeat performance. \nPeggy Castle (IDJ4FUN) will be spinning tunes that we all know and love. \nOur favorite bartenders Diane and Steph will be serving up beverages. \nThe festivities run from 6 – 9 pm. \nCost is $40 per person: It includes one drink ticket and Tasty Light Fare. Get your tickets today! \n \nThe proceeds from this event will enable 3GV to continue its mission of providing information and resources to 50 plus Gay Women in the areas of socialization\, emotional well-being\, and physical health awareness.  \nThe Glades is located at the end of Holland Glade Road. \n 
URL:https://goldengaygirlsvillages.org/event/music-from-ladies-of-the-80s-meets-golden-gay-girls-villages-3gv-once-again/
LOCATION:The Glade Clubhouse\, 16 Glade Farm Drive\,\, Rehoboth Beach\, DE\, 19971\, United States
ATTACH;FMTTYPE=image/png:https://goldengaygirlsvillages.org/wp-content/uploads/2025/09/DP-med.png
END:VEVENT
BEGIN:VEVENT
DTSTART;TZID=America/New_York:20251019T110000
DTEND;TZID=America/New_York:20251019T160000
DTSTAMP:20260419T195749
CREATED:20250903T185451Z
LAST-MODIFIED:20250903T185637Z
UID:2094-1760871600-1760889600@goldengaygirlsvillages.org
SUMMARY:CAMP Rehoboth Block Party
DESCRIPTION:3GV will have a table at the CAMP Rehoboth Block Party on Sunday\, October 19 and we would love for you to stop by to say hello. \nThe Block Party is one of the best outdoor events of the year with music\, arts and crafts\, refreshments and LOTS of great information from a variety of community organizations. \nWe look forward to seeing you so LOOK for us! \n \n 
URL:https://goldengaygirlsvillages.org/event/camp-rehoboth-block-party/
ATTACH;FMTTYPE=image/jpeg:https://goldengaygirlsvillages.org/wp-content/uploads/2025/09/block-party3.jpg
END:VEVENT
END:VCALENDAR