BEGIN:VCALENDAR
VERSION:2.0
PRODID:-//Golden Gay Girls Villages - ECPv6.15.20//NONSGML v1.0//EN
CALSCALE:GREGORIAN
METHOD:PUBLISH
X-WR-CALNAME:Golden Gay Girls Villages
X-ORIGINAL-URL:https://goldengaygirlsvillages.org
X-WR-CALDESC:Events for Golden Gay Girls Villages
REFRESH-INTERVAL;VALUE=DURATION:PT1H
X-Robots-Tag:noindex
X-PUBLISHED-TTL:PT1H
BEGIN:VTIMEZONE
TZID:America/New_York
BEGIN:DAYLIGHT
TZOFFSETFROM:-0500
TZOFFSETTO:-0400
TZNAME:EDT
DTSTART:20240310T070000
END:DAYLIGHT
BEGIN:STANDARD
TZOFFSETFROM:-0400
TZOFFSETTO:-0500
TZNAME:EST
DTSTART:20241103T060000
END:STANDARD
BEGIN:DAYLIGHT
TZOFFSETFROM:-0500
TZOFFSETTO:-0400
TZNAME:EDT
DTSTART:20250309T070000
END:DAYLIGHT
BEGIN:STANDARD
TZOFFSETFROM:-0400
TZOFFSETTO:-0500
TZNAME:EST
DTSTART:20251102T060000
END:STANDARD
BEGIN:DAYLIGHT
TZOFFSETFROM:-0500
TZOFFSETTO:-0400
TZNAME:EDT
DTSTART:20260308T070000
END:DAYLIGHT
BEGIN:STANDARD
TZOFFSETFROM:-0400
TZOFFSETTO:-0500
TZNAME:EST
DTSTART:20261101T060000
END:STANDARD
END:VTIMEZONE
BEGIN:VEVENT
DTSTART;TZID=America/New_York:20251204T120000
DTEND;TZID=America/New_York:20251204T130000
DTSTAMP:20260419T163748
CREATED:20251110T121619Z
LAST-MODIFIED:20251204T124208Z
UID:2390-1764849600-1764853200@goldengaygirlsvillages.org
SUMMARY:Slow Yoga at Midway Motion and Fitness
DESCRIPTION:Midway Motion and Fitness is a state-of-the-art facility that features a wide range of fitness machines\, treadmills\, personal trainers and much more. It is located behind the Midway Movie Theater complex. The majority of its members are seniors. 3GV is excited to be partnering with Midway to bring together our members and friends for exercise programs. Midway membership is free if you have AARP’s United Healthcare or Silver Sneakers. Our first yoga class is free for all. \nLeslie Hellstarn will conduct our first “slow” Yoga class to get us all stretching together. Leslie is a retired art teacher and a certified yoga teacher\, so she brings a creative touch to yoga! The class is limited to 14 individuals so please sign-up ASAP. We will plan another class if this first one is a success. Class is scheduled for Thursday\, December 4\, 2025\, at 12:00 p.m.
URL:https://goldengaygirlsvillages.org/event/slow-yoga-at-midway-motion-and-fitness/
LOCATION:Midway Fitness\, 34823 Derrickson Drive\, Rehoboth Beach\, 19971\, United States
ATTACH;FMTTYPE=image/png:https://goldengaygirlsvillages.org/wp-content/uploads/2025/11/MF-1.png
END:VEVENT
END:VCALENDAR